BEGIN:VCALENDAR
VERSION:2.0
PRODID:-//wp-events-plugin.com//7.2.2.1//EN
TZID:Asia/Singapore
X-WR-TIMEZONE:Asia/Singapore
BEGIN:VEVENT
UID:23@digitalassetsassociation.org
DTSTART;TZID=Asia/Singapore:20260127T160000
DTEND;TZID=Asia/Singapore:20260127T180000
DTSTAMP:20260107T035330Z
URL:https://digitalassetsassociation.org/events/uae-opportunities-in-digit
 al-assets-workshop/
SUMMARY:UAE Opportunities in Digital Assets Workshop
DESCRIPTION:Digital Assets Association (DAA) and UAE Singapore Business Cou
 ncil (UAESBC) are co-organising a ‘UAE Opportunities in Digital Assets W
 orkshop’ on 27 January 2026\, with the support of UAE Embassy in Singapo
 re.\n\nWe are pleased to invite you to this informative event that brings 
 together leaders at the nexus of innovation\, industry and regulatory to p
 resent the landscape of opportunities and deep dive together on the UAE ma
 rket. The UAE ranks among global leaders with the likes of Singapore and S
 witzerland in digital-asset regulation maturity and innovation (GFTN\, 202
 5).\n\nSet against this backdrop of accelerating growth with UAE’s rapid
  ascent as a global digital asset hub\, the workshop offers a timely platf
 orm to exchange insights\, strengthen partnerships\, and identify new inve
 stment opportunities in the digital asset vertical. We invite you to join 
 us for this important dialogue as we kickstart 2026 with new pathways for 
 collaboration and growth.\n\nWhat you will gain:\n- Insights into the UAE 
 digital asset market\n- Regulatory and innovation perspectives\n- Networki
 ng with industry leaders\n- New investment and partnership opportunities\n
 \nProgramme Details:\n3:30PM - Registration\n4:00PM - Welcome Address by C
 o-Chairman\, DAA\n4:05PM - Opening Remarks by Guest of Honour\, H.E. Jamal
  Al Suwaidi\, UAE Ambassador to Singapore\n4:15PM - UAE Overview by Dr Bri
 an Shegar\, Emeritus Chairman &amp\; Senior Advisor to UAE Singapore Busin
 ess Council\n4:30PM - Presentation by VARA/ADGM\n4:45PM - Panel Discussion
  on UAE Opportunities in Digital Assets\n5:15PM - Networking\n6:00PM - Clo
 se\n\nSeats are limited. Click here to register your interest! -&gt\; http
 s://luma.com/mlnxrgnb\n\n#DigitalAssetsAssociation #Blockchain #Web3 #DAA 
 #Singapore #DigitalAssets #Binance #TRMLabs #Safeheron #UAE #InvestmentOpp
 ortunities #MarketExpansion #FinTech
ATTACH;FMTTYPE=image/jpeg:https://digitalassetsassociation.org/wp-content/
 uploads/2026/01/UAESBC-DAA-Poster-A4.png
LOCATION:80RR Fintech Hub SG\, 80 Robinson Rd\, #08-01\, Singapore 068898\,
  Singapore\, Singapore
X-APPLE-STRUCTURED-LOCATION;VALUE=URI;X-ADDRESS=80 Robinson Rd\, #08-01\, S
 ingapore 068898\, Singapore\, Singapore;X-APPLE-RADIUS=100;X-TITLE=80RR Fi
 ntech Hub SG:geo:0,0
END:VEVENT
BEGIN:VTIMEZONE
TZID:Asia/Singapore
X-LIC-LOCATION:Asia/Singapore
BEGIN:STANDARD
DTSTART:20250127T160000
TZOFFSETFROM:+0800
TZOFFSETTO:+0800
TZNAME:+08
END:STANDARD
END:VTIMEZONE
END:VCALENDAR